BEGIN:VCALENDAR
VERSION:2.0
PRODID:-//Magnolia Speech School - ECPv6.15.20//NONSGML v1.0//EN
CALSCALE:GREGORIAN
METHOD:PUBLISH
X-WR-CALNAME:Magnolia Speech School
X-ORIGINAL-URL:https://www.magnoliaspeechschool.org
X-WR-CALDESC:Events for Magnolia Speech School
REFRESH-INTERVAL;VALUE=DURATION:PT1H
X-Robots-Tag:noindex
X-PUBLISHED-TTL:PT1H
BEGIN:VTIMEZONE
TZID:UTC
BEGIN:STANDARD
TZOFFSETFROM:+0000
TZOFFSETTO:+0000
TZNAME:UTC
DTSTART:20190101T000000
END:STANDARD
END:VTIMEZONE
BEGIN:VEVENT
DTSTART;TZID=UTC:20200507T080000
DTEND;TZID=UTC:20200507T170000
DTSTAMP:20260419T124232
CREATED:20190807T130229Z
LAST-MODIFIED:20200417T111640Z
UID:980-1588838400-1588870800@www.magnoliaspeechschool.org
SUMMARY:Piano Recital
DESCRIPTION:
URL:https://www.magnoliaspeechschool.org/event/piano-recital/
END:VEVENT
BEGIN:VEVENT
DTSTART;VALUE=DATE:20200518
DTEND;VALUE=DATE:20200519
DTSTAMP:20260419T124232
CREATED:20190604T190458Z
LAST-MODIFIED:20210312T165846Z
UID:926-1589760000-1589846399@www.magnoliaspeechschool.org
SUMMARY:25th Annual Golf Classic
DESCRIPTION:Join us at Lake Caroline to support Magnolia Speech School at our Golf Classic.  For more information\, please visit our event website – bidpal.net/25thmssgolf \n 
URL:https://www.magnoliaspeechschool.org/event/25th-annual-golf-classic/
CATEGORIES:Campus Events
END:VEVENT
BEGIN:VEVENT
DTSTART;TZID=UTC:20200522T080000
DTEND;TZID=UTC:20200522T170000
DTSTAMP:20260419T124232
CREATED:20190501T154316Z
LAST-MODIFIED:20200417T111720Z
UID:918-1590134400-1590166800@www.magnoliaspeechschool.org
SUMMARY:Early Dismissal
DESCRIPTION:Details about early dismissal will be communicated to parents.  If you have any questions\, please contact LeAnne McGinity at 601-922-5530.
URL:https://www.magnoliaspeechschool.org/event/early-dismissal-4/
END:VEVENT
END:VCALENDAR